BEGIN:VCALENDAR
VERSION:2.0
PRODID:-//www.clevelandhabitat.org//NONSGML kigkonsult.se iCalcreator 2.30.
 10//
CALSCALE:GREGORIAN
METHOD:PUBLISH
UID:d856352a-edf2-4ee6-9b4d-8e360abbd3a1
X-WR-CALDESC:Join us as we celebrate a year of building strength\, stabilit
 y\, and self-reliance through affordable homeownership. Enjoy great food\,
  an open bar\, and inspiring stories from our award honorees.
X-WR-RELCALID:19ebdcb8c77133ba472f7a76c02e6311
X-WR-TIMEZONE:America/New_York
BEGIN:VTIMEZONE
TZID:America/New_York
BEGIN:STANDARD
TZNAME:EST
DTSTART:20251102T020000
TZOFFSETFROM:-0400
TZOFFSETTO:-0500
RDATE:20261101T020000
END:STANDARD
BEGIN:DAYLIGHT
TZNAME:EDT
DTSTART:20250309T020000
TZOFFSETFROM:-0500
TZOFFSETTO:-0400
RDATE:20260308T020000
RDATE:20270314T020000
END:DAYLIGHT
END:VTIMEZONE
BEGIN:VEVENT
UID:8480cf65-6fa7-4369-8165-f6b042f98f11
DTSTAMP:20260423T233959Z
DESCRIPTION:Join us as we celebrate a year of building strength\, stability
 \, and self-reliance through affordable homeownership. Enjoy great food\, 
 an open bar\, and inspiring stories from our award honorees.
DTSTART;TZID=America/New_York:20251117T170000
DTEND;TZID=America/New_York:20251117T200000
LOCATION:2110 W 110th Street\, Cleveland\, OH 44102 US
SUMMARY:Greater Cleveland Habitat for Humanity Annual Meeting
END:VEVENT
END:VCALENDAR
