BEGIN:VCALENDAR
VERSION:2.0
PRODID:-//www.clevelandhabitat.org//NONSGML kigkonsult.se iCalcreator 2.30.
 10//
CALSCALE:GREGORIAN
METHOD:PUBLISH
UID:ab606e3f-8098-4063-bef1-69852682fc40
X-WR-CALDESC:Come join us for a chance to connect\, celebrate\, and learn a
 bout the difference we are making in the community.\nPresident & CEO John 
 Litten will share Greater Cleveland Habitat’s accomplishments over the las
 t year\, look ahead to 2025 and present our volunteer\, community\, and em
 ployee of the year awards. Free parking will be available (valet or self-p
 ark in our lot).\n\nThank you to Co-Presenting Sponsor First Federal Lakew
 ood and sponsor The Cleveland Foundation.
X-WR-RELCALID:bf141f1aa6d449deabaf61608a9578bb
X-WR-TIMEZONE:America/New_York
BEGIN:VTIMEZONE
TZID:America/New_York
BEGIN:STANDARD
TZNAME:EST
DTSTART:20241103T020000
TZOFFSETFROM:-0400
TZOFFSETTO:-0500
RDATE:20251102T020000
END:STANDARD
BEGIN:DAYLIGHT
TZNAME:EDT
DTSTART:20240310T020000
TZOFFSETFROM:-0500
TZOFFSETTO:-0400
RDATE:20250309T020000
RDATE:20260308T020000
END:DAYLIGHT
END:VTIMEZONE
BEGIN:VEVENT
UID:56db6522-82e6-4c27-8222-53667cadad4f
DTSTAMP:20260424T180310Z
DESCRIPTION:Come join us for a chance to connect\, celebrate\, and learn ab
 out the difference we are making in the community.\nPresident & CEO John L
 itten will share Greater Cleveland Habitat’s accomplishments over the last
  year\, look ahead to 2025 and present our volunteer\, community\, and emp
 loyee of the year awards. Free parking will be available (valet or self-pa
 rk in our lot).\n\nThank you to Co-Presenting Sponsor First Federal Lakewo
 od and sponsor The Cleveland Foundation.
DTSTART;TZID=America/New_York:20241118T170000
DTEND;TZID=America/New_York:20241118T200000
LOCATION:2110 West 110th Street Cleveland\, OH 44102\, Cleveland\, OH 44102
  US
SUMMARY:Annual Meeting
END:VEVENT
END:VCALENDAR
